BEGIN:VCALENDAR
VERSION:2.0
PRODID:-//ChamberMaster//Event Calendar 2.0//EN
METHOD:PUBLISH
X-PUBLISHED-TTL:P3D
REFRESH-INTERVAL:P3D
CALSCALE:GREGORIAN
BEGIN:VEVENT
DTSTART;VALUE=DATE:20171231
DTEND;VALUE=DATE:20180101
TRANSP:TRANSPARENT
X-MICROSOFT-CDO-ALLDAYEVENT:TRUE
SUMMARY:Andrew Test Event for PKX-322-53865
DESCRIPTION:This is a test
X-ALT-DESC;FMTTYPE=text/html:This is a test
LOCATION:
UID:e.1531.3811
SEQUENCE:3
DTSTAMP:20260419T204540Z
URL:https://members.psaeger.com/events/details/andrew-test-event-for-pkx-322-53865-3811
END:VEVENT

END:VCALENDAR
