BEGIN:VCALENDAR
VERSION:2.0
PRODID:-//ChamberMaster//Event Calendar 2.0//EN
METHOD:PUBLISH
X-PUBLISHED-TTL:P3D
REFRESH-INTERVAL:P3D
CALSCALE:GREGORIAN
BEGIN:VEVENT
DTSTART;VALUE=DATE:20140217
DTEND;VALUE=DATE:20140218
TRANSP:TRANSPARENT
X-MICROSOFT-CDO-ALLDAYEVENT:TRUE
SUMMARY:Andrew's Test Recurring Event 01
DESCRIPTION:Testing recurring featured events\, updating should adjust expiration date in featured events table.
X-ALT-DESC;FMTTYPE=text/html:Testing recurring featured events\, updating should adjust expiration date in featured events table.
LOCATION:
UID:e.1531.964
SEQUENCE:3
DTSTAMP:20260422T224038Z
URL:https://members.psaeger.com/events/details/andrew-s-test-recurring-event-01-02-17-2014-964
END:VEVENT

END:VCALENDAR
