BEGIN:VCALENDAR
VERSION:2.0
PRODID:-//ChamberMaster//Event Calendar 2.0//EN
METHOD:PUBLISH
X-PUBLISHED-TTL:P3D
REFRESH-INTERVAL:P3D
CALSCALE:GREGORIAN
BEGIN:VEVENT
DTSTART;VALUE=DATE:20141215
DTEND;VALUE=DATE:20141217
TRANSP:TRANSPARENT
X-MICROSOFT-CDO-ALLDAYEVENT:TRUE
SUMMARY:Andrew's Test Event Registration Event
DESCRIPTION:Testing event registration.
X-ALT-DESC;FMTTYPE=text/html:Testing event registration.
LOCATION:
UID:e.1531.842
SEQUENCE:3
DTSTAMP:20260422T073751Z
URL:https://members.psaeger.com/events/details/andrew-s-test-event-registration-event-12-15-2014-842
END:VEVENT

END:VCALENDAR
