BEGIN:VCALENDAR
VERSION:2.0
PRODID:-//ChamberMaster//Event Calendar 2.0//EN
METHOD:PUBLISH
X-PUBLISHED-TTL:P3D
REFRESH-INTERVAL:P3D
CALSCALE:GREGORIAN
BEGIN:VEVENT
DTSTART;VALUE=DATE:20141115
DTEND;VALUE=DATE:20141116
TRANSP:TRANSPARENT
X-MICROSOFT-CDO-ALLDAYEVENT:TRUE
SUMMARY:Andrew's Cool Test Event - New Years Eve Party!
DESCRIPTION:Test Event\, Want to see what a regular e-blast looks like
X-ALT-DESC;FMTTYPE=text/html:Test Event\, Want to see what a regular e-blast looks like
LOCATION:
UID:e.1531.239
SEQUENCE:3
DTSTAMP:20260422T085712Z
URL:https://members.psaeger.com/events/details/andrew-s-cool-test-event-new-years-eve-party-11-15-2014-239
END:VEVENT

END:VCALENDAR
