BEGIN:VCALENDAR
VERSION:2.0
PRODID:-//ChamberMaster//Event Calendar 2.0//EN
METHOD:PUBLISH
X-PUBLISHED-TTL:P3D
REFRESH-INTERVAL:P3D
CALSCALE:GREGORIAN
BEGIN:VEVENT
DTSTART;VALUE=DATE:20140916
DTEND;VALUE=DATE:20140917
TRANSP:TRANSPARENT
X-MICROSOFT-CDO-ALLDAYEVENT:TRUE
SUMMARY:And Another Test Event for Andrew
DESCRIPTION:you SHOULD get this one
X-ALT-DESC;FMTTYPE=text/html:you SHOULD get this one
LOCATION:
UID:e.1531.1072
SEQUENCE:3
DTSTAMP:20260422T120358Z
URL:https://members.psaeger.com/events/details/and-another-test-event-for-andrew-09-16-2014-1072
END:VEVENT

END:VCALENDAR
