BEGIN:VCALENDAR
VERSION:2.0
PRODID:-//ChamberMaster//Event Calendar 2.0//EN
METHOD:PUBLISH
X-PUBLISHED-TTL:P3D
REFRESH-INTERVAL:P3D
CALSCALE:GREGORIAN
BEGIN:VEVENT
DTSTART:20160320T030000Z
DTEND:20160320T065900Z
X-MICROSOFT-CDO-ALLDAYEVENT:FALSE
SUMMARY:62 Blues at the Village Pub
DESCRIPTION:Live music at the Village Pub featuring "62 Blues band" Music starts at 8  No cover  16365 Highway 175 Cobb  928 4500
X-ALT-DESC;FMTTYPE=text/html:<p>Live music at the Village Pub featuring &quot\;62 Blues band&quot\; Music starts at 8&nbsp\; No cover&nbsp\; 16365 Highway 175 Cobb</p>  <p>928 4500</p> 
LOCATION:The Village Pub
UID:e.1531.3466
SEQUENCE:3
DTSTAMP:20260421T072421Z
URL:https://members.psaeger.com/events/details/62-blues-at-the-village-pub-03-19-2016-3466
END:VEVENT

END:VCALENDAR
