BEGIN:VCALENDAR
VERSION:2.0
PRODID:-//ChamberMaster//Event Calendar 2.0//EN
METHOD:PUBLISH
X-PUBLISHED-TTL:P3D
REFRESH-INTERVAL:P3D
CALSCALE:GREGORIAN
BEGIN:VEVENT
DTSTART:20160322T013000Z
DTEND:20160322T040000Z
X-MICROSOFT-CDO-ALLDAYEVENT:FALSE
SUMMARY:62 Blues at Blue Wing Monday Blues
DESCRIPTION:Local\, Bay Area and touring blues bands perform at the Blue Wing at dinner time each Monday evening. It's great food in a lively and danceable atmosphere. There's no cover but reservations are suggested\, either inside or out on our heated veranda. Tonight we feature the well-known blues harp master Pat Gleeson and his band\, 62 Blues.
X-ALT-DESC;FMTTYPE=text/html:<p>Local\, Bay Area and touring blues bands perform at the Blue Wing at dinner time each Monday evening. It&#39\;s great food in a lively and danceable atmosphere. There&#39\;s no cover but reservations are suggested\, either inside or out on our heated veranda.&nbsp\;Tonight we feature the well-known blues harp master Pat Gleeson and his band\, 62 Blues.</p> 
LOCATION:Blue Wing Restaurant
UID:e.1531.3239
SEQUENCE:3
DTSTAMP:20260421T072055Z
URL:https://members.psaeger.com/events/details/62-blues-at-blue-wing-monday-blues-03-21-2016-3239
END:VEVENT

END:VCALENDAR
