BEGIN:VCALENDAR
VERSION:2.0
PRODID:-//ChamberMaster//Event Calendar 2.0//EN
METHOD:PUBLISH
X-PUBLISHED-TTL:P3D
REFRESH-INTERVAL:P3D
CALSCALE:GREGORIAN
BEGIN:VEVENT
DTSTART:20160423T151500Z
DTEND:20160424T010000Z
X-MICROSOFT-CDO-ALLDAYEVENT:FALSE
SUMMARY:32nd Annual Konocti Cup Sailing Regatta
DESCRIPTION:26 Mile Full Cup Race or 13 mile Half Cup Race.  Entry fee is for boats registering.  Skippers meeting is at 8:15 am and the race starts at Noon.  There may be opportunities for people to be crew members on a sailboat.  Crew members must be physically able to help sail\, dress appropriately and have a life jacket.  Barbeque Hamburger or Cheeseburger Dinner will be available for purchase after the race.  There will also be an Awards Brunch on Sunday morning.  For more information go to http://www.kbsail.org.
X-ALT-DESC;FMTTYPE=text/html:<p>26 Mile Full Cup Race or 13 mile Half Cup Race.&nbsp\; Entry fee is for boats registering.&nbsp\;&nbsp\;Skippers meeting is at 8:15 am and the race starts at Noon.&nbsp\; There may be opportunities for people to be crew members on a sailboat.&nbsp\; Crew members must be physically able to help sail\, dress appropriately and have a life jacket.</p>  <p>Barbeque Hamburger or Cheeseburger Dinner will be available for purchase after the race.</p>  <p>There will also be an Awards Brunch on Sunday morning.</p>  <p>For more information go to http://www.kbsail.org.</p>  <p>&nbsp\;</p> 
LOCATION:Tiki Hut at Braitos Marina in Buckingham
UID:e.1531.3526
SEQUENCE:3
DTSTAMP:20260421T054550Z
URL:https://members.psaeger.com/events/details/32nd-annual-konocti-cup-sailing-regatta-04-23-2016-3526
END:VEVENT

END:VCALENDAR
