BEGIN:VCALENDAR
VERSION:2.0
PRODID:-//ChamberMaster//Event Calendar 2.0//EN
METHOD:PUBLISH
X-PUBLISHED-TTL:P3D
REFRESH-INTERVAL:P3D
CALSCALE:GREGORIAN
BEGIN:VEVENT
DTSTART:20161001T130000Z
DTEND:20161002T010000Z
X-MICROSOFT-CDO-ALLDAYEVENT:FALSE
SUMMARY:26th Annual Konocti Challenge
DESCRIPTION:Come enjoy this one of a kind cycling event around the beautiful shores of the largest natural lake in California!  Voted Cycle CA! Magazine's Best Metric Century of 2014\, the Konocti Challenge is one not to miss!  There are 4 routes to choose from: 20mi\, 40mi. 65mi and 100mi.  The annual Rest Stop Competition is a hoot\, the SAG support is plentiful and the end of ride BBQ is amazing!  Early bird discount for online registrations done by the end of April.   Go to www.konoctichallenge.com for more information or to register for the ride.
X-ALT-DESC;FMTTYPE=text/html:<p>Come enjoy this one of a kind cycling event around the beautiful shores of the largest natural lake in California! &nbsp\;Voted Cycle CA! Magazine&#39\;s Best Metric Century of 2014\, the Konocti Challenge is one not to miss! &nbsp\;There are 4 routes to choose from: 20mi\, 40mi. 65mi and 100mi. &nbsp\;The annual Rest Stop Competition is a hoot\, the SAG support is plentiful and the end of ride BBQ is amazing! &nbsp\;Early bird discount for online registrations done by&nbsp\;the end of April. &nbsp\;&nbsp\;Go to www.konoctichallenge.com for more information or to register for the ride.</p> 
LOCATION:Skylark Shores Resort - Lakeport
UID:e.1531.3733
SEQUENCE:3
DTSTAMP:20260420T194827Z
URL:https://members.psaeger.com/events/details/26th-annual-konocti-challenge-10-01-2016-3733
END:VEVENT

END:VCALENDAR
