BEGIN:VCALENDAR
VERSION:2.0
PRODID:-//ChamberMaster//Event Calendar 2.0//EN
METHOD:PUBLISH
X-PUBLISHED-TTL:P3D
REFRESH-INTERVAL:P3D
CALSCALE:GREGORIAN
BEGIN:VEVENT
DTSTART;VALUE=DATE:20151225
DTEND;VALUE=DATE:20151226
TRANSP:TRANSPARENT
X-MICROSOFT-CDO-ALLDAYEVENT:TRUE
SUMMARY:2015 Christmas
DESCRIPTION:blah blah blah\n	blha blah blah
X-ALT-DESC;FMTTYPE=text/html:<ul>\n	<li class="pa...">blah blah blah</li>\n	<li>blha blah blah</li>\n</ul>\n
LOCATION:blah blah blah blha blah blah
UID:e.1531.844
SEQUENCE:3
DTSTAMP:20260421T120815Z
URL:https://members.psaeger.com/events/details/2015-christmas-12-25-2015-844
END:VEVENT

END:VCALENDAR
